BEGIN:VCALENDAR
VERSION:2.0
PRODID:-//Spelman NAASC Houston - ECPv6.2.8.1//NONSGML v1.0//EN
CALSCALE:GREGORIAN
METHOD:PUBLISH
X-WR-CALNAME:Spelman NAASC Houston
X-ORIGINAL-URL:https://houstonnaasc.com
X-WR-CALDESC:Events for Spelman NAASC Houston
REFRESH-INTERVAL;VALUE=DURATION:PT1H
X-Robots-Tag:noindex
X-PUBLISHED-TTL:PT1H
BEGIN:VTIMEZONE
TZID:America/Chicago
BEGIN:DAYLIGHT
TZOFFSETFROM:-0600
TZOFFSETTO:-0500
TZNAME:CDT
DTSTART:20230312T080000
END:DAYLIGHT
BEGIN:STANDARD
TZOFFSETFROM:-0500
TZOFFSETTO:-0600
TZNAME:CST
DTSTART:20231105T070000
END:STANDARD
END:VTIMEZONE
BEGIN:VEVENT
DTSTART;TZID=America/Chicago:20231022T140000
DTEND;TZID=America/Chicago:20231022T180000
DTSTAMP:20260424T100635
CREATED:20231008T222639Z
LAST-MODIFIED:20231009T074528Z
UID:570-1697983200-1697997600@houstonnaasc.com
SUMMARY:SpelHouse Picnic 2023
DESCRIPTION:SpelHouse Homecoming Kickoff Catered BBQ Options \nAll orders must be submitted and PAID by Monday\, October 16\, 12:00 noon. \nOrders can be placed at https://www.morehousehouston.org/ \nSpelHouse Homecoming Kickoff Food Options: \nThree Meat Plate ($25) \nChicken\, Sausage\, ribs\, green beans & potatoes\, baked beans\, and aside salad. \nChicken Plate ($25) \nTwo leg quarters\, green beans & potatoes\, baked beans\, and a side salad \nVegetarian Plate ($15) \nGreen beans & potatoes\, baked beans\, and a side salad. \nChild’s Plate ($12) \nChicken leg\, half-order sausage\, green beans\, and baked beans \n 
URL:https://houstonnaasc.com/event/spelhouse-picnic-2023/
LOCATION:TOM BASS PARK: SECTION 1 PAVILION 2\, 3902 Fellows Road\, Houston\, TX\, 77047\, United States
CATEGORIES:In Conjunction with Morehouse
ATTACH;FMTTYPE=image/jpeg:https://houstonnaasc.com/wp-content/uploads/2023/10/Resized_png_20231007_130144_0000.jpeg
END:VEVENT
END:VCALENDAR