BEGIN:VCALENDAR
VERSION:2.0
PRODID:-//Spelman NAASC Houston - ECPv6.2.8.1//NONSGML v1.0//EN
CALSCALE:GREGORIAN
METHOD:PUBLISH
X-ORIGINAL-URL:https://houstonnaasc.com
X-WR-CALDESC:Events for Spelman NAASC Houston
REFRESH-INTERVAL;VALUE=DURATION:PT1H
X-Robots-Tag:noindex
X-PUBLISHED-TTL:PT1H
BEGIN:VTIMEZONE
TZID:America/Chicago
BEGIN:DAYLIGHT
TZOFFSETFROM:-0600
TZOFFSETTO:-0500
TZNAME:CDT
DTSTART:20240310T080000
END:DAYLIGHT
BEGIN:STANDARD
TZOFFSETFROM:-0500
TZOFFSETTO:-0600
TZNAME:CST
DTSTART:20241103T070000
END:STANDARD
END:VTIMEZONE
BEGIN:VEVENT
DTSTART;TZID=America/Chicago:20240727T183000
DTEND;TZID=America/Chicago:20240727T200000
DTSTAMP:20260423T185102
CREATED:20240720T185415Z
LAST-MODIFIED:20240726T143451Z
UID:977-1722105000-1722110400@houstonnaasc.com
SUMMARY:Meet and Greet for Class of 2028
DESCRIPTION:THE VENUE HAS CHANGED!\n\n\n  \n  \n\n                \n                        \n                            Event Registration (1)\n                             \n                        \n        \n        	Step 1 of 3\n        	 \n            \n                33%\n            \n                        \n                                    HiddenNext Steps: Install a Payment Add-OnTo accept payments on this form you will need to install one of our payment add-ons. To learn more about your payment add-on options\, visit the following page (https://www.gravityforms.com/blog/payment-add-ons). Important: Delete this tip before you publish the form.Contact DetailsSpelmanite C'2028(Required)\n                            \n                            \n                                                    First\n                                                    \n                                                \n                            \n                            \n                                                            Last\n                                                            \n                                                        \n                            \n                        Email(Required)\n                            \n                        Phone(Required)Address    \n                    \n                         \n                                        Street Address\n                                        \n                                   \n                                        Address Line 2\n                                        \n                                    \n                                    City\n                                    \n                                 \n                                        State / Province / Region\n                                        \n                                      \n                                    ZIP / Postal Code\n                                    \n                                \n                                        Country\n                                        AfghanistanAlbaniaAlgeriaAmerican SamoaAndorraAngolaAnguillaAntarcticaAntigua and BarbudaArgentinaArmeniaArubaAustraliaAustriaAzerbaijanBahamasBahrainBangladeshBarbadosBelarusBelgiumBelizeBeninBermudaBhutanBoliviaBonaire\, Sint Eustatius and SabaBosnia and HerzegovinaBotswanaBouvet IslandBrazilBritish Indian Ocean TerritoryBrunei DarussalamBulgariaBurkina FasoBurundiCabo VerdeCambodiaCameroonCanadaCayman IslandsCentral African RepublicChadChileChinaChristmas IslandCocos IslandsColombiaComorosCongoCongo\, Democratic Republic of theCook IslandsCosta RicaCroatiaCubaCuraçaoCyprusCzechiaCôte d'IvoireDenmarkDjiboutiDominicaDominican RepublicEcuadorEgyptEl SalvadorEquatorial GuineaEritreaEstoniaEswatiniEthiopiaFalkland IslandsFaroe IslandsFijiFinlandFranceFrench GuianaFrench PolynesiaFrench Southern TerritoriesGabonGambiaGeorgiaGermanyGhanaGibraltarGreeceGreenlandGrenadaGuadeloupeGuamGuatemalaGuernseyGuineaGuinea-BissauGuyanaHaitiHeard Island and McDonald IslandsHoly SeeHondurasHong KongHungaryIcelandIndiaIndonesiaIranIraqIrelandIsle of ManIsraelItalyJamaicaJapanJerseyJordanKazakhstanKenyaKiribatiKorea\, Democratic People's Republic ofKorea\, Republic ofKuwaitKyrgyzstanLao People's Democratic RepublicLatviaLebanonLesothoLiberiaLibyaLiechtensteinLithuaniaLuxembourgMacaoMadagascarMalawiMalaysiaMaldivesMaliMaltaMarshall IslandsMartiniqueMauritaniaMauritiusMayotteMexicoMicronesiaMoldovaMonacoMongoliaMontenegroMontserratMoroccoMozambiqueMyanmarNamibiaNauruNepalNetherlandsNew CaledoniaNew ZealandNicaraguaNigerNigeriaNiueNorfolk IslandNorth MacedoniaNorthern Mariana IslandsNorwayOmanPakistanPalauPalestine\, State ofPanamaPapua New GuineaParaguayPeruPhilippinesPitcairnPolandPortugalPuerto RicoQatarRomaniaRussian FederationRwandaRéunionSaint BarthélemySaint Helena\, Ascension and Tristan da CunhaSaint Kitts and NevisSaint LuciaSaint MartinSaint Pierre and MiquelonSaint Vincent and the GrenadinesSamoaSan MarinoSao Tome and PrincipeSaudi ArabiaSenegalSerbiaSeychellesSierra LeoneSingaporeSint MaartenSlovakiaSloveniaSolomon IslandsSomaliaSouth AfricaSouth Georgia and the South Sandwich IslandsSouth SudanSpainSri LankaSudanSurinameSvalbard and Jan MayenSwedenSwitzerlandSyria Arab RepublicTaiwanTajikistanTanzania\, the United Republic ofThailandTimor-LesteTogoTokelauTongaTrinidad and TobagoTunisiaTurkmenistanTurks and Caicos IslandsTuvaluTürkiyeUS Minor Outlying IslandsUgandaUkraineUnited Arab EmiratesUnited KingdomUnited StatesUruguayUzbekistanVanuatuVenezuelaViet NamVirgin Islands\, BritishVirgin Islands\, U.S.Wallis and FutunaWestern SaharaYemenZambiaZimbabweÅland Islands \n                                    \n                    \n                \n                    \n                    \n                          \n                    \n                \n                \n                    \n                        Event DetailsGenderFemaleMaleNon-binaryPrefer Not to AnswerAge16-19How did you hear about this event?Social MediaGoogleWord of MouthRefer a FriendPast ParticipantOther\n                    \n                    \n                          \n                    \n                \n                \n                    \n                        Payment DetailsTicket Type\n			\n					\n					VIP Ticket\n			Number of tickets neededPlease enter a number from 1 to 1.Total\n							\n						HiddenCredit CardReplace this field with a field specific to your payment gateway whenever possible.\n          \n            \n            \n            \n            \n            \n            \n            \n            \n            \n        \n                        \n                        \n                        \n\n \n 
URL:https://houstonnaasc.com/event/meet-and-greet-for-class-of-2028/
LOCATION:5019 Alba Road\, 5019 Alba Road\, Houston\, TX\, 77018\, United States
CATEGORIES:In Conjunction with Morehouse
ATTACH;FMTTYPE=image/jpeg:https://houstonnaasc.com/wp-content/uploads/2024/07/Blue-White-Illustrative-Meet-and-Greet-Poster-8.5-x-11-in-3.jpeg
END:VEVENT
END:VCALENDAR