BEGIN:VCALENDAR
VERSION:2.0
PRODID:-//Spelman NAASC Houston - ECPv6.2.8.1//NONSGML v1.0//EN
CALSCALE:GREGORIAN
METHOD:PUBLISH
X-WR-CALNAME:Spelman NAASC Houston
X-ORIGINAL-URL:https://houstonnaasc.com
X-WR-CALDESC:Events for Spelman NAASC Houston
REFRESH-INTERVAL;VALUE=DURATION:PT1H
X-Robots-Tag:noindex
X-PUBLISHED-TTL:PT1H
BEGIN:VTIMEZONE
TZID:America/Chicago
BEGIN:DAYLIGHT
TZOFFSETFROM:-0600
TZOFFSETTO:-0500
TZNAME:CDT
DTSTART:20230312T080000
END:DAYLIGHT
BEGIN:STANDARD
TZOFFSETFROM:-0500
TZOFFSETTO:-0600
TZNAME:CST
DTSTART:20231105T070000
END:STANDARD
END:VTIMEZONE
BEGIN:VEVENT
DTSTART;TZID=America/Chicago:20230610T103000
DTEND;TZID=America/Chicago:20230610T120000
DTSTAMP:20260424T145018
CREATED:20230315T063928Z
LAST-MODIFIED:20230518T200326Z
UID:200-1686393000-1686398400@houstonnaasc.com
SUMMARY:NAASC Houston June Chapter Meeting
DESCRIPTION:
URL:https://houstonnaasc.com/event/naasc-houston-may-chapter-meeting/
LOCATION:Bar 5015\, 5015 Almeda Rd\, Houston\, TX\, 77004\, United States
CATEGORIES:General Body Meeting
ATTACH;FMTTYPE=image/jpeg:https://houstonnaasc.com/wp-content/uploads/2023/02/version1uuid5201568B-11B7-47A5-9056-F7DE7BF92B29modecompatiblenoloc0.jpeg
ORGANIZER;CN="NAASC Houston":MAILTO:info@houstonnaasc.com
END:VEVENT
END:VCALENDAR